BEGIN:VCALENDAR
VERSION:2.0
PRODID:-//40th Anniversary | Nepean Sailing Club - ECPv5.3.1//NONSGML v1.0//EN
CALSCALE:GREGORIAN
METHOD:PUBLISH
X-WR-CALNAME:40th Anniversary | Nepean Sailing Club
X-ORIGINAL-URL:https://40th.nsc.ca
X-WR-CALDESC:Events for 40th Anniversary | Nepean Sailing Club
BEGIN:VTIMEZONE
TZID:UTC
BEGIN:STANDARD
TZOFFSETFROM:+0000
TZOFFSETTO:+0000
TZNAME:UTC
DTSTART:20190101T000000
END:STANDARD
END:VTIMEZONE
BEGIN:VEVENT
DTSTART;TZID=UTC:20190705T180000
DTEND;TZID=UTC:20190705T235900
DTSTAMP:20260419T125739
CREATED:20190519T030955Z
LAST-MODIFIED:20190519T162305Z
UID:340-1562349600-1562371140@40th.nsc.ca
SUMMARY:Opening Ceremonies
DESCRIPTION:Join us Friday July 5th starting at 6:00pm \n  \n\n\n\nTime\nActivity\n\n\n6:00pm – 7:00pm\nCasual dinner\, mingle\, and welcome\nCome down to the club and grab a bite to eat with your fellow members. Enjoy music on the deck and welcoming remarks from our Commodore to kick off the weekend.\n\n\n7:00pm – 8:00pm\nPractice Keelboat Race\nKeen to get a sail in? Join the practice race! If you’re not feeling a sail\, stay and enjoy the views from the comforts of the NSC deck and surrounded by live music.\n\n\n8:00pm – 10:00pm\nLight Up the Harbour\nWelcome those who went out for a sail with a bright harbour. Dress up your boat with lights\, and move the party to the docks.\n\n\n10:00pm – 11:00pm\nCorn Roast by the Fire\nWarm up on land – Grab some corn\, friends\, a drink\, and head on down to the fire pit for a corn roast.\n\n\n11:00pm – 12:00am\nMovie Night\nEnjoy some classics – popular TV shows from 1979\, 89\, 99\, and 2009.
URL:https://40th.nsc.ca/event/opening-ceremonies/
LOCATION:Nepean Sailing Club\, 3259 Carling Ave\, Ottawa\, Ontario\, K2H 1A6\, Canada
CATEGORIES:Sailpast
ATTACH;FMTTYPE=image/jpeg:https://40th.nsc.ca/wp-content/uploads/2019/05/Sailpast-open-1.jpg
END:VEVENT
END:VCALENDAR